BEGIN:VCALENDAR
VERSION:2.0
PRODID:-//wp-events-plugin.com//7.2.3.1//EN
TZID:America/Sao_Paulo
X-WR-TIMEZONE:America/Sao_Paulo
BEGIN:VEVENT
UID:285@redeservir.com.br
DTSTART;TZID=America/Sao_Paulo;VALUE=DATE:20260424
DTEND;TZID=America/Sao_Paulo;VALUE=DATE:20260427
DTSTAMP:20260305T201735Z
URL:https://redeservir.com.br/events/ee-para-educadores/
SUMMARY:Exercícios Espirituais para Educadores
DESCRIPTION:Data: 24 a 26 de abril\n\nAs Anotações dos EE – Um caminho 
 para ser mais com os demais\, Módulo I\n\nSão muitos os desafios contemp
 orâneos\, sobretudo no que tange à educação em seu sentido mais amplo.
  Por acreditar que toda pessoa\, em si\, é um educador(a)\, o Mosteiro de
  Itaici oferece o Retiro para Educadores\, com o tema: As Anotações dos 
 Exercícios Espirituais de Santo Inácio de Loyola\, como um caminho para 
 ser mais com os demais.\n\nSão muitos os desafios contemporâneos\, sobre
 tudo no que tange à educação em seu sentido mais amplo. Por acreditar q
 ue toda pessoa\, em si\, é um educador(a)\, o Mosteiro de Itaici oferece 
 o Retiro para Educadores\, com o tema: As Anotações dos Exercícios Espi
 rituais de Santo Inácio de Loyola\, como um caminho para ser mais com os 
 demais.\n\nUma proposta que pode nos ajudar a reconhecer os processos que 
 vivemos\, nossas relações pessoais\, comunitárias\, sociais.\nAcolher\,
  acompanhar e aconselhar pastoralmente a educadores dos mais diversos cont
 extos.\n\nDesenvolver uma Pedagogia dos afetos: trabalhar as disposições
  necessárias para o acompanhamento inaciano na missão educativa.\n\nORIE
 NTADORES:\n\nSonia Goretti Pires\nVagner Colonhezi e\nPe. André Luís de 
 Araújo\, SJ\n\n&nbsp\;\n\nINSCREVA-SE AQUI
ATTACH;FMTTYPE=image/jpeg:https://redeservir.com.br/wp-content/uploads/202
 6/03/rt_ee_educadores-1.png
CATEGORIES:Atividades,Casas de Retiro,Rede Servir,Retiros
LOCATION:Mosteiro de Itaici\, Rod. José Boldrini\, 170 \, Indaiatuba\, Sã
 o Paulo\, 13341700\, Itaici\, Brasil
X-APPLE-STRUCTURED-LOCATION;VALUE=URI;X-ADDRESS=Rod. José Boldrini\, 170 \
 , Indaiatuba\, São Paulo\, 13341700\, Itaici\, Brasil;X-APPLE-RADIUS=100;
 X-TITLE=Mosteiro de Itaici:geo:0,0
END:VEVENT
BEGIN:VTIMEZONE
TZID:America/Sao_Paulo
X-LIC-LOCATION:America/Sao_Paulo
BEGIN:STANDARD
DTSTART:20250424T000000
TZOFFSETFROM:-0300
TZOFFSETTO:-0300
TZNAME:-03
END:STANDARD
END:VTIMEZONE
END:VCALENDAR