BEGIN:VCALENDAR
VERSION:2.0
PRODID:-//wp-events-plugin.com//7.2.3.1//EN
TZID:America/Sao_Paulo
X-WR-TIMEZONE:America/Sao_Paulo
BEGIN:VEVENT
UID:141@redeservir.com.br
DTSTART;TZID=America/Sao_Paulo;VALUE=DATE:20250102
DTEND;TZID=America/Sao_Paulo;VALUE=DATE:20250111
DTSTAMP:20241014T192306Z
URL:https://redeservir.com.br/events/exercicios-espirituais-de-8-dias-em-m
 ontes-claros-mg/
SUMMARY:Exercícios Espirituais de 8 dias em Montes Claros (MG)
DESCRIPTION:Retiro de 8 dias segundo a metodologia dos Exercícios Espiritu
 ais de Santo Inácio de Loyola.\n\n\nExercícios Espirituais de 8 dias\nDa
 ta: 02 a 10 de janeiro de 2025\nHorário: Início às 18h – Término às
  13h\nOrientador: Pe. Ponciano Petri\, SJ\nValor: R$ 800\,00\nAprovação:
  Não há necessidade de aprovação para fazer a atividade\n\nInscriçõe
 s abertas\nClique AQUI para se inscrever
ATTACH;FMTTYPE=image/jpeg:https://redeservir.com.br/wp-content/uploads/202
 4/10/EE_oito_dias_nazare.jpeg
CATEGORIES:Atividades,Casas de Retiro,Centros Loyola,Formação Continuada
 nos Exercícios Espirituais e em Espiritualidade Inaciana,Rede
 Servir,Retiros,Sies
LOCATION:Casa de nazaré\, Rodovia BR 135\, km 378\,5\, Zona Rural\, Montes
  Claros\, MG\, Brazil\, Montes Claros\, Minas Gerais\, Brasil
X-APPLE-STRUCTURED-LOCATION;VALUE=URI;X-ADDRESS=Rodovia BR 135\, km 378\,5\
 , Zona Rural\, Montes Claros\, MG\, Brazil\, Montes Claros\, Minas Gerais\
 , Brasil;X-APPLE-RADIUS=100;X-TITLE=Casa de nazaré:geo:0,0
END:VEVENT
BEGIN:VTIMEZONE
TZID:America/Sao_Paulo
X-LIC-LOCATION:America/Sao_Paulo
BEGIN:STANDARD
DTSTART:20240103T000000
TZOFFSETFROM:-0300
TZOFFSETTO:-0300
TZNAME:-03
END:STANDARD
END:VTIMEZONE
END:VCALENDAR