BEGIN:VCALENDAR
VERSION:2.0
PRODID:-//wp-events-plugin.com//7.2.3.1//EN
TZID:America/Sao_Paulo
X-WR-TIMEZONE:America/Sao_Paulo
BEGIN:VEVENT
UID:286@redeservir.com.br
DTSTART;TZID=America/Sao_Paulo;VALUE=DATE:20260424
DTEND;TZID=America/Sao_Paulo;VALUE=DATE:20260427
DTSTAMP:20260305T201723Z
URL:https://redeservir.com.br/events/retiro-tematico-o-espirito-nos-una-nu
 m-so-corpo/
SUMMARY:Retiro Temático: "O espírito nos una num só corpo"
DESCRIPTION:Data: 24 a 26 de abril\n\nA integração dessas duas Dimensões
  aparentemente opostas\, são na verdade\,\n“TÃO Dispostas e Desejadas
 ” pelo Senhor da VIDA!\n\nApelo que nos vem insistentemente na Eucaristi
 a\, e com eloquência:\n"O Espírito nos una num só CORPO!"\nReverenciemo
 s o Corpo que Ele nos deu!\nE o CORPO de CRISTO\, onde somos Um\,\ncom o P
 ai\, na Força do Espírito Santo!\n\nORIENTADORA\nRose Vendramini\n\n&nbs
 p\;\n\nINSCREVA-SE AQUI
ATTACH;FMTTYPE=image/jpeg:https://redeservir.com.br/wp-content/uploads/202
 6/03/rt_o_espirito_nos_una_num_so_corpo.jpg-1.jpeg
CATEGORIES:Atividades,Casas de Retiro,Rede Servir,Retiros
LOCATION:Mosteiro de Itaici\, Rod. José Boldrini\, 170 \, Indaiatuba\, Sã
 o Paulo\, 13341700\, Itaici\, Brasil
X-APPLE-STRUCTURED-LOCATION;VALUE=URI;X-ADDRESS=Rod. José Boldrini\, 170 \
 , Indaiatuba\, São Paulo\, 13341700\, Itaici\, Brasil;X-APPLE-RADIUS=100;
 X-TITLE=Mosteiro de Itaici:geo:0,0
END:VEVENT
BEGIN:VTIMEZONE
TZID:America/Sao_Paulo
X-LIC-LOCATION:America/Sao_Paulo
BEGIN:STANDARD
DTSTART:20250424T000000
TZOFFSETFROM:-0300
TZOFFSETTO:-0300
TZNAME:-03
END:STANDARD
END:VTIMEZONE
END:VCALENDAR