BEGIN:VCALENDAR
VERSION:2.0
PRODID:-//wp-events-plugin.com//7.2.3.1//EN
TZID:America/Sao_Paulo
X-WR-TIMEZONE:America/Sao_Paulo
BEGIN:VEVENT
UID:287@redeservir.com.br
DTSTART;TZID=America/Sao_Paulo;VALUE=DATE:20260424
DTEND;TZID=America/Sao_Paulo;VALUE=DATE:20260427
DTSTAMP:20260305T201747Z
URL:https://redeservir.com.br/events/retiro-tematico-para-profissionais-da
 -saude-e-cuidadores/
SUMMARY:Retiro Temático para Profissionais da Saúde e Cuidadores
DESCRIPTION:Data: 24 a 26 de abril\n\nUm tempo de pausa em meio à sobrecar
 ga\, ao ritmo intenso e às exigências constantes do cuidar\, somos convi
 dados a parar. No silêncio\, reencontramos o essencial.\n\nInspirado na e
 spiritualidade de Santo Inácio de Loyola\, este retiro propõe dias de or
 ação\, recolhimento e escuta de Deus — um espaço para restaurar as fo
 rças\, integrar vocação e profissão e recordar que também quem cuida 
 precisa ser cuidado.\n\n“Vinde a um lugar deserto e descansai um pouco.
 ” (Mc 6\,30-32)\n\nNo silêncio\, Deus fortalece e sustenta aqueles que 
 se dedicam ao cuidado do outro.\n\nORIENTADORAS\nDra. Vera Cristina Costa 
 Munhoz\nIr. Juliana Vilela Alves\, MPS\n\n&nbsp\;\n\nINSCREVA-SE AQUI
ATTACH;FMTTYPE=image/jpeg:https://redeservir.com.br/wp-content/uploads/202
 6/03/rt_no_silencio_deus_cuida_de_quem_cuida.jpg-1.jpeg
CATEGORIES:Atividades,Casas de Retiro,Rede Servir,Retiros
LOCATION:Mosteiro de Itaici\, Rod. José Boldrini\, 170 \, Indaiatuba\, Sã
 o Paulo\, 13341700\, Itaici\, Brasil
X-APPLE-STRUCTURED-LOCATION;VALUE=URI;X-ADDRESS=Rod. José Boldrini\, 170 \
 , Indaiatuba\, São Paulo\, 13341700\, Itaici\, Brasil;X-APPLE-RADIUS=100;
 X-TITLE=Mosteiro de Itaici:geo:0,0
END:VEVENT
BEGIN:VTIMEZONE
TZID:America/Sao_Paulo
X-LIC-LOCATION:America/Sao_Paulo
BEGIN:STANDARD
DTSTART:20250424T000000
TZOFFSETFROM:-0300
TZOFFSETTO:-0300
TZNAME:-03
END:STANDARD
END:VTIMEZONE
END:VCALENDAR