BEGIN:VCALENDAR
VERSION:2.0
PRODID:-//wp-events-plugin.com//7.2.3.1//EN
TZID:America/Sao_Paulo
X-WR-TIMEZONE:America/Sao_Paulo
BEGIN:VEVENT
UID:288@redeservir.com.br
DTSTART;TZID=America/Sao_Paulo;VALUE=DATE:20260424
DTEND;TZID=America/Sao_Paulo;VALUE=DATE:20260427
DTSTAMP:20260305T201531Z
URL:https://redeservir.com.br/events/retiro-tematico-virtudes-e-vicios/
SUMMARY:Retiro Temático: Virtudes e Vícios
DESCRIPTION:Data: 24 a 26 de abril\n\nIdentificar Sintomas das Desordens pa
 ra Ordenar os Afetos\n\nNão basta identificar quais são os nossos afetos
  desordenados. É preciso vencê-los\, sem se deixar determinar por eles. 
 E\, assim\, crescer em Liberdade e no serviço a Deus e aos irmãos.\n\nÀ
  luz dos Exercícios Espirituais e da Psicologia Contemporânea\, incluind
 o a Tomista\, a experiência oferecerá instrumentos práticos e teóricos
 \, que serão aprofundados pelo exercitante nos momentos da sua oração p
 essoal. O clima de silêncio\, assim como os modos de orar e a prática do
  discernimento são parte essencial da metodologia.\n\nORIENTADORES\nRenat
 a Lagrotta Franco e Francis Franco\n\n&nbsp\;\n\nINSCREVA-SE AQUI
ATTACH;FMTTYPE=image/jpeg:https://redeservir.com.br/wp-content/uploads/202
 6/03/rt_virtudes_e_vicios.jpg-1.jpeg
CATEGORIES:Atividades,Casas de Retiro,Rede Servir,Retiros
LOCATION:Mosteiro de Itaici\, Rod. José Boldrini\, 170 \, Indaiatuba\, Sã
 o Paulo\, 13341700\, Itaici\, Brasil
X-APPLE-STRUCTURED-LOCATION;VALUE=URI;X-ADDRESS=Rod. José Boldrini\, 170 \
 , Indaiatuba\, São Paulo\, 13341700\, Itaici\, Brasil;X-APPLE-RADIUS=100;
 X-TITLE=Mosteiro de Itaici:geo:0,0
END:VEVENT
BEGIN:VTIMEZONE
TZID:America/Sao_Paulo
X-LIC-LOCATION:America/Sao_Paulo
BEGIN:STANDARD
DTSTART:20250424T000000
TZOFFSETFROM:-0300
TZOFFSETTO:-0300
TZNAME:-03
END:STANDARD
END:VTIMEZONE
END:VCALENDAR